BEGIN:VCALENDAR
PRODID:-//github.com/rianjs/ical.net//NONSGML ical.net 4.0//EN
VERSION:2.0
BEGIN:VEVENT
DESCRIPTION:
DTSTAMP:20260423T090615Z
DTSTART;VALUE=DATE:20200402
LOCATION:Webex (детали либо в приглашении либо на сайте https://cscomarath
 on.ru)
SEQUENCE:0
SUMMARY:Часть 1. Типовая модель угроз при организации удалённого доступа.
UID:0153beee-2e7c-4023-a738-27a6df32c54b
END:VEVENT
END:VCALENDAR
