BEGIN:VCALENDAR
PRODID:-//github.com/rianjs/ical.net//NONSGML ical.net 4.0//EN
VERSION:2.0
BEGIN:VEVENT
DESCRIPTION:
DTSTAMP:20260423T102139Z
DTSTART;VALUE=DATE:20200409
LOCATION:Webex (детали либо в приглашении либо на сайте https://cscomarath
 on.ru)
SEQUENCE:0
SUMMARY:Особенности внедрения Cisco SD-WAN в изолированной (on-prem) сети 
 с учетом требований ГОСТ-шифрования.
UID:0db8faef-73ee-46ae-8689-4c542b12580c
END:VEVENT
END:VCALENDAR
