BEGIN:VCALENDAR
PRODID:-//github.com/rianjs/ical.net//NONSGML ical.net 4.0//EN
VERSION:2.0
BEGIN:VEVENT
DESCRIPTION:
DTSTAMP:20260423T090346Z
DTSTART;VALUE=DATE:20200408
LOCATION:Webex (детали либо в приглашении либо на сайте https://cscomarath
 on.ru)
SEQUENCE:0
SUMMARY:Телеметрия на Cat9K. Cisco Stealthwatch.
UID:0dc648f2-9938-496c-8be4-5b6e0d680bd1
END:VEVENT
END:VCALENDAR
