BEGIN:VCALENDAR
PRODID:-//github.com/rianjs/ical.net//NONSGML ical.net 4.0//EN
VERSION:2.0
BEGIN:VEVENT
DESCRIPTION:
DTSTAMP:20260423T090757Z
DTSTART;VALUE=DATE:20200407
LOCATION:Webex (детали либо в приглашении либо на сайте https://cscomarath
 on.ru)
SEQUENCE:0
SUMMARY:Построение  корпоративной архитектуры контроля доступа с ISE и Tru
 stSec. Безопасность\, встроенная в Catalyst9k: работа\, поиск и устранени
 е неисправностей в Cisco ISE и TrustSec.
UID:f8261667-06a6-4610-babf-0f6c9c0640bb
END:VEVENT
END:VCALENDAR
