BEGIN:VCALENDAR
PRODID:-//github.com/rianjs/ical.net//NONSGML ical.net 4.0//EN
VERSION:2.0
BEGIN:VEVENT
DESCRIPTION:
DTSTAMP:20260423T101747Z
DTSTART;VALUE=DATE:20200325
LOCATION:Webex (детали либо в приглашении либо на сайте https://cscomarath
 on.ru)
SEQUENCE:0
SUMMARY:Как доказать\, что проблема не в сети? Обзор работы DNA Assurance.
  Разрешать и контролировать - обзор решений информационной безопасности д
 ля построения беспроводных сетей.
UID:5bfddf18-aac4-4723-be0d-0f50e9cdb0f1
END:VEVENT
END:VCALENDAR
