BEGIN:VCALENDAR
PRODID:-//github.com/rianjs/ical.net//NONSGML ical.net 4.0//EN
VERSION:2.0
BEGIN:VEVENT
DESCRIPTION:
DTSTAMP:20260423T091304Z
DTSTART;VALUE=DATE:20200324
LOCATION:Webex (детали либо в приглашении либо на сайте https://cscomarath
 on.ru)
SEQUENCE:0
SUMMARY:Поиск и устранение неисправностей в работе беспроводных контроллер
 ов на примере Catalyst 9800
UID:3f85d4cb-3603-44cd-9159-8b1dbd4ead38
END:VEVENT
END:VCALENDAR
