BEGIN:VCALENDAR
PRODID:-//github.com/rianjs/ical.net//NONSGML ical.net 4.0//EN
VERSION:2.0
BEGIN:VEVENT
DESCRIPTION:
DTSTAMP:20260423T090920Z
DTSTART;VALUE=DATE:20200323
LOCATION:Webex (детали либо в приглашении либо на сайте https://cscomarath
 on.ru)
SEQUENCE:0
SUMMARY:Поиск и устранение неисправностей в работе и настройке Catalyst 90
 00
UID:dba32f8b-1a30-47cd-bb2b-7fd753e099f9
END:VEVENT
END:VCALENDAR
