BEGIN:VCALENDAR
PRODID:-//github.com/rianjs/ical.net//NONSGML ical.net 4.0//EN
VERSION:2.0
BEGIN:VEVENT
DESCRIPTION:Данная сессия познакомит слушателей с новыми возможностями сис
 темы Совместной работы для предприятий. Акцент будет сделан на функционал
 ьности\, связанной обновленными версиями CUCM 11.x и 12.х\, а также платф
 ормы совещаний CMS
DTSTAMP:20260423T090802Z
DTSTART;VALUE=DATE:20200417
LOCATION:Webex (детали либо в приглашении либо на сайте https://cscomarath
 on.ru)
SEQUENCE:0
SUMMARY:Новые возможности системы Совместной работы для предприятий - упра
 вление вызовами и совещания.
UID:c9595f72-b79c-424c-abb6-bd8c33a054b0
END:VEVENT
END:VCALENDAR
