BEGIN:VCALENDAR
PRODID:-//github.com/rianjs/ical.net//NONSGML ical.net 4.0//EN
VERSION:2.0
BEGIN:VEVENT
DESCRIPTION:В этой сессии мы рассмотрим возможности\, которые предлагает W
 ebEx для интеграции с корпоративной инфраструктурой Unified Communication
 . Получим ответы на такие вопросы как: 'Зачем это нужно и какие преимущес
 тво можно получить?'\, 'Что для этого нужно сделать?'\, 'Как это сделать?
 '
DTSTAMP:20260423T090755Z
DTSTART;VALUE=DATE:20200414
LOCATION:Webex (детали либо в приглашении либо на сайте https://cscomarath
 on.ru)
SEQUENCE:0
SUMMARY:Достучаться до облаков WebEx из корпоративной сети.
UID:4e3d4b74-015f-40f4-8ad1-a08da5469a63
END:VEVENT
END:VCALENDAR
