BEGIN:VCALENDAR
PRODID:-//github.com/rianjs/ical.net//NONSGML ical.net 4.0//EN
VERSION:2.0
BEGIN:VEVENT
DESCRIPTION:
DTSTAMP:20260423T091054Z
DTSTART;VALUE=DATE:20200409
LOCATION:Webex (детали либо в приглашении либо на сайте https://cscomarath
 on.ru)
SEQUENCE:0
SUMMARY:Часть 2. Рабочее место работника.
UID:565d368f-6dda-46d2-90f1-0783544ce7f5
END:VEVENT
END:VCALENDAR
