BEGIN:VCALENDAR
PRODID:-//github.com/rianjs/ical.net//NONSGML ical.net 4.0//EN
VERSION:2.0
BEGIN:VEVENT
ATTACH:http://cs.co/61891aF2t
DESCRIPTION:http://cs.co/61891aF2t\n
DTSTAMP:20260423T090716Z
DTSTART;VALUE=DATE:20200416
LOCATION:Webex (детали либо в приглашении либо на сайте https://cscomarath
 on.ru)
SEQUENCE:0
SUMMARY:Часть 3. Периметр компании.
UID:4712f3ca-e07b-4dd3-9da4-bc45d5a39bad
END:VEVENT
END:VCALENDAR
