BEGIN:VCALENDAR
PRODID:-//github.com/rianjs/ical.net//NONSGML ical.net 4.0//EN
VERSION:2.0
BEGIN:VEVENT
ATTACH:http://cs.co/61811aF2v
DESCRIPTION:http://cs.co/61811aF2v\n
DTSTAMP:20260423T090715Z
DTSTART;VALUE=DATE:20200423
LOCATION:Webex (детали либо в приглашении либо на сайте https://cscomarath
 on.ru)
SEQUENCE:0
SUMMARY:Часть 4. Как в Cisco устроены сервисы удалённого доступа
UID:972fd6ce-10d6-4066-b630-1a0e15094c7f
END:VEVENT
END:VCALENDAR
