BEGIN:VCALENDAR
PRODID:-//github.com/rianjs/ical.net//NONSGML ical.net 4.0//EN
VERSION:2.0
BEGIN:VEVENT
DESCRIPTION:
DTSTAMP:20260423T090607Z
DTSTART;VALUE=DATE:20200407
LOCATION:Webex (детали либо в приглашении либо на сайте https://cscomarath
 on.ru)
SEQUENCE:0
SUMMARY:Архитектура маршрутизаторов Cisco ASR9000
UID:cddd878f-f10b-47d9-8456-6cd5f839d36b
END:VEVENT
END:VCALENDAR
