BEGIN:VCALENDAR
PRODID:-//github.com/rianjs/ical.net//NONSGML ical.net 4.0//EN
VERSION:2.0
BEGIN:VEVENT
DESCRIPTION:
DTSTAMP:20260423T091153Z
DTSTART;VALUE=DATE:20200408
LOCATION:Webex (детали либо в приглашении либо на сайте https://cscomarath
 on.ru)
SEQUENCE:0
SUMMARY:Обзор семейства маршрутизаторов уровня доступа и агрегации NCS 500
 . Расширение модельного ряда NCS 5500 для уровня магистрали.
UID:e94494ca-8835-40f8-a122-a6a5cf5ffaa8
END:VEVENT
END:VCALENDAR
