BEGIN:VCALENDAR
PRODID:-//github.com/rianjs/ical.net//NONSGML ical.net 4.0//EN
VERSION:2.0
BEGIN:VEVENT
DESCRIPTION:
DTSTAMP:20260423T090908Z
DTSTART;VALUE=DATE:20200409
LOCATION:Webex (детали либо в приглашении либо на сайте https://cscomarath
 on.ru)
SEQUENCE:0
SUMMARY:Развитие оптических решений Cisco для построения конвергентных тра
 нспортных сетей.
UID:3308b8bc-21eb-4970-a948-7faa72fb9969
END:VEVENT
END:VCALENDAR
