BEGIN:VCALENDAR
PRODID:-//github.com/rianjs/ical.net//NONSGML ical.net 4.0//EN
VERSION:2.0
BEGIN:VEVENT
DESCRIPTION:
DTSTAMP:20260423T090909Z
DTSTART;VALUE=DATE:20200410
LOCATION:Webex (детали либо в приглашении либо на сайте https://cscomarath
 on.ru)
SEQUENCE:0
SUMMARY:Оркестрация сервисов с помощью Cisco NSO и демонстрация возможност
 ей системы управления EPNM.
UID:0b0630c7-91f2-497b-bece-1003e13c207a
END:VEVENT
END:VCALENDAR
