BEGIN:VCALENDAR
PRODID:-//github.com/rianjs/ical.net//NONSGML ical.net 4.0//EN
VERSION:2.0
BEGIN:VEVENT
DESCRIPTION:
DTSTAMP:20260423T091036Z
DTSTART;VALUE=DATE:20200406
LOCATION:Webex (детали либо в приглашении либо на сайте https://cscomarath
 on.ru)
SEQUENCE:0
SUMMARY:Архитектура новой платформы Cisco 8000 и сетевого процессора Silic
 on One
UID:c2039826-fbcf-40d7-819c-0a9829341d57
END:VEVENT
END:VCALENDAR
