BEGIN:VCALENDAR
PRODID:-//github.com/rianjs/ical.net//NONSGML ical.net 4.0//EN
VERSION:2.0
BEGIN:VEVENT
DESCRIPTION:Сессия предназначена для сетевых инженеров\, желающих ознакоми
 ться с основами автоматизации сетей.\n\nОбсудим популярные подходы к реше
 нию задач по автоматизации сетевой инфраструктуры\, рассмотрим базовые ко
 нцепции и доступный инструментарий. Применим полученные знания на практик
 е путем разбора практической задачи и одного из вариантов ее решения .
DTEND:20200427T120000
DTSTAMP:20260423T090801Z
DTSTART:20200427T100000
LOCATION:Webex (детали либо в приглашении либо на сайте https://cscomarath
 on.ru)
SEQUENCE:0
SUMMARY:Автоматизация сетевой инфраструктуры — введение
UID:ea45d782-c990-4a8b-a6ed-8ae179f8f4bd
END:VEVENT
END:VCALENDAR
