BEGIN:VCALENDAR
PRODID:-//github.com/rianjs/ical.net//NONSGML ical.net 4.0//EN
VERSION:2.0
BEGIN:VEVENT
DESCRIPTION:PyATS - это бесплатный Python-фреймворк для автоматизированног
 о тестирования сетей. На сессии обсудим\, как с ним работать и посмотрим 
 примеры использования. После сессии на вопрос по тестированию: "Эй\, псс\
 , что с тестированием?"\, - вы будете знать\, что ответить. Присоединяйте
 сь.
DTEND:20200430T120000
DTSTAMP:20260423T102301Z
DTSTART:20200430T100000
LOCATION:Webex (детали либо в приглашении либо на сайте https://cscomarath
 on.ru)
SEQUENCE:0
SUMMARY:Проблемы в сети есть? А если найду? Автоматизированное тестировани
 е сети с PyATS
UID:1185ad37-91c8-4788-abcc-75c61385d73e
END:VEVENT
END:VCALENDAR
