BEGIN:VCALENDAR
PRODID:-//github.com/rianjs/ical.net//NONSGML ical.net 4.0//EN
VERSION:2.0
BEGIN:VEVENT
ATTACH:https://cisco.webex.com/cisco/onstage/g.php?MTID=e9990ab4a20b685905
 672a9af4b261eb6
DESCRIPTION:https://cisco.webex.com/cisco/onstage/g.php?MTID=e9990ab4a20b6
 85905672a9af4b261eb6\nНа вебинаре рассмотрим новый и планируемый к реализ
 ации функционал CMS\, CMM\, TMS\, Expressway. Новый продукт - CMS Constru
 ctor.
DTSTAMP:20260423T090607Z
DTSTART;VALUE=DATE:20200430
LOCATION:Webex (детали либо в приглашении либо на сайте https://cscomarath
 on.ru)
SEQUENCE:0
SUMMARY:Технический апдейдт по новым версиям ПО инфраструктурных решений В
 КС и UC Cisco
UID:e11248c9-7f00-4be7-9215-c721b879e656
END:VEVENT
END:VCALENDAR
