BEGIN:VCALENDAR
PRODID:-//github.com/rianjs/ical.net//NONSGML ical.net 4.0//EN
VERSION:2.0
BEGIN:VEVENT
ATTACH:https://cisco.webex.com/cisco/onstage/g.php?MTID=e049fc8c415019027a
 62c14dad76e7baa
DESCRIPTION:https://cisco.webex.com/cisco/onstage/g.php?MTID=e049fc8c41501
 9027a62c14dad76e7baa\nВ феврале-мае 2020 года компания Cisco выпускает на
  рынок множество программных и аппаратных обновлений\, которые должны зна
 чительно расширить возможности предлагаемых классических и SDN технологий
  для корпоративных ЛВС. Среди ключевых анонсов выпуск новых аппаратных пл
 атформ и моделей серии Cisco Catalyst\, множество новых возможностей экос
 истемы и технологий Cisco DNA/SDA версий 1.3.3\, выпуск ОС Cisco IOS XE 1
 7.2 для Catalyst 9000\, значительно расширяющей спектр применения этих ко
 ммутаторов в классической ЛВС и за ее пределами. Об этих и других ключевы
 х и самых свежих новостях Вы узнаете из этого вебинара.
DTSTAMP:20260423T090535Z
DTSTART;VALUE=DATE:20200520
LOCATION:Webex (детали либо в приглашении либо на сайте https://cscomarath
 on.ru)
SEQUENCE:0
SUMMARY:Все самое важное о новинках корпоративной коммутации Cisco
UID:5cf0d34b-3dcc-4ace-986c-88b1c73e2b8c
END:VEVENT
END:VCALENDAR
