BEGIN:VCALENDAR
PRODID:-//github.com/rianjs/ical.net//NONSGML ical.net 4.0//EN
VERSION:2.0
BEGIN:VEVENT
ATTACH:https://cisco.webex.com/cisco/onstage/g.php?MTID=e139262f505b540211
 660c878e3b9f8c1
DESCRIPTION:https://cisco.webex.com/cisco/onstage/g.php?MTID=e139262f505b5
 40211660c878e3b9f8c1\nВ презентации будет представлена технология IOx для
  размещения приложений на сетевом оборудовании Cisco (индустриальные комм
 утаторы серий Industrial Ethernet и Connected Grid\, индустриальные маршр
 утизаторы\, индустриальные точка доступа).Также разберем типовые сценарии
  ее использования\, инструменты для разработки и готовые модули.
DTEND:20200529T130000
DTSTAMP:20260423T090813Z
DTSTART:20200529T110000
LOCATION:Webex (детали либо в приглашении либо на сайте https://cscomarath
 on.ru)
SEQUENCE:0
SUMMARY:Edge computing от Cisco – решение Cisco Edge Intelligence. Возможн
 ости и практика использования технологии Cisco IOx.
UID:a5507c88-2d1a-40de-bcd0-07e0b9ae453c
END:VEVENT
END:VCALENDAR
