BEGIN:VCALENDAR
PRODID:-//github.com/rianjs/ical.net//NONSGML ical.net 4.0//EN
VERSION:2.0
BEGIN:VEVENT
ATTACH:https://mkto.cisco.com/devnetday.html
DESCRIPTION:https://mkto.cisco.com/devnetday.html\n
DTSTAMP:20260423T090835Z
DTSTART;VALUE=DATE:20200604
LOCATION:Webex (детали либо в приглашении либо на сайте https://cscomarath
 on.ru)
SEQUENCE:0
SUMMARY:Join us June 4th for the first ever Cisco DevNet Day virtual event
 ! Whether you are a coding novice or an expert\; mark your calendar for a
  fun filled day of technical developer sessions\, demos\, interviews\, li
 ghtning talks\, and much more.
UID:c18cf554-f886-4940-b84e-c88093aed7b5
END:VEVENT
END:VCALENDAR
