BEGIN:VCALENDAR
PRODID:-//github.com/rianjs/ical.net//NONSGML ical.net 4.0//EN
VERSION:2.0
BEGIN:VEVENT
DESCRIPTION:• Обзор программных продуктов Cisco для автоматизации ресурсов
  ЦОД\n• Демонстрация UCS Director и CloudCenter\n• Управление и оптимизац
 ия ресурсов с помощью CWOM\n
DTEND:20200602T120000
DTSTAMP:20260423T091005Z
DTSTART:20200602T100000
LOCATION:Webex (детали либо в приглашении либо на сайте https://cscomarath
 on.ru)
SEQUENCE:0
SUMMARY:Автоматизация\, самообслуживание и управление ресурсами ЦОД
UID:b92d4160-1358-4def-b172-b7a464237215
END:VEVENT
END:VCALENDAR
