BEGIN:VCALENDAR
PRODID:-//github.com/rianjs/ical.net//NONSGML ical.net 4.0//EN
VERSION:2.0
BEGIN:VEVENT
DESCRIPTION:	• Обзор особенностей стоечных серверов Cisco UCS С-серии и S-
 серии\n• Особенности управления в режиме standalone\n• Централизованная с
 истема управления Intersight\n
DTEND:20200603T120000
DTSTAMP:20260423T102133Z
DTSTART:20200603T100000
LOCATION:Webex (детали либо в приглашении либо на сайте https://cscomarath
 on.ru)
SEQUENCE:0
SUMMARY:Стоечные серверы Cisco\nC-серии. Управление распределенной серверн
 ой инфраструктурой при помощи Intersight\n
UID:910d2f9f-58f4-4cd6-af29-d1b3410eecc9
END:VEVENT
END:VCALENDAR
