BEGIN:VCALENDAR
PRODID:-//github.com/rianjs/ical.net//NONSGML ical.net 4.0//EN
VERSION:2.0
BEGIN:VEVENT
DESCRIPTION:• Обзор сторонних инструментов управления\n• Базовые возможнос
 ти UCS PowerTool и Python SDK\n• работа с Redfish API\n• интеграция с Ans
 ible и Terraform\n
DTEND:20200604T120000
DTSTAMP:20260423T090654Z
DTSTART:20200604T100000
LOCATION:Webex (детали либо в приглашении либо на сайте https://cscomarath
 on.ru)
SEQUENCE:0
SUMMARY:Автоматизация вычислительных систем Cisco UCS. API\, SDK\, инструм
 енты DevOps
UID:d8849822-356c-4202-9f1c-36c0604a4a83
END:VEVENT
END:VCALENDAR
