BEGIN:VCALENDAR
PRODID:-//github.com/rianjs/ical.net//NONSGML ical.net 4.0//EN
VERSION:2.0
BEGIN:VEVENT
DESCRIPTION:	• возможности и преимущества Cisco Container Platform\n• жизн
 енный цикл кластеров Kubernetes\n• реализацию функций мониторинга кластер
 ов\n• работа с различными CNI и CSI плагинами\n
DTEND:20200605T130000
DTSTAMP:20260423T090447Z
DTSTART:20200605T110000
LOCATION:Webex (детали либо в приглашении либо на сайте https://cscomarath
 on.ru)
SEQUENCE:0
SUMMARY:Cisco Container Platform в деталях
UID:20258c70-3f46-4424-8b8f-253c1f6a4693
END:VEVENT
END:VCALENDAR
