BEGIN:VCALENDAR
PRODID:-//github.com/rianjs/ical.net//NONSGML ical.net 4.0//EN
VERSION:2.0
BEGIN:VEVENT
DESCRIPTION:	• спектр задач для программно-определяемых СХД и варианты пос
 троения программно-определяемых СХД на решения Cisco и партнеров\n• гипер
 конвергентные системы\n• системы аналитики и больших данных\n• системы хр
 анения резервных копий\n• объектные и архивные хранилища\n• программно-оп
 ределяемые системы общего назначения\n
DTEND:20200605T120000
DTSTAMP:20260423T102006Z
DTSTART:20200605T100000
LOCATION:Webex (детали либо в приглашении либо на сайте https://cscomarath
 on.ru)
SEQUENCE:0
SUMMARY:Программно-определяемые системы хранения данных на базе оборудован
 ия Cisco
UID:e676833d-bbc6-4a5c-8db4-bfc12b18e211
END:VEVENT
END:VCALENDAR
