BEGIN:VCALENDAR
PRODID:-//github.com/rianjs/ical.net//NONSGML ical.net 4.0//EN
VERSION:2.0
BEGIN:VEVENT
ATTACH:http://cisco.cvent.com/d/37q75s/4W
DESCRIPTION:http://cisco.cvent.com/d/37q75s/4W\nВо время сессии: \n• Мы ра
 зберем значение таких страшных слов\, как «лицензия по подписке» и Smart 
 Account\n• Поговорим о назначении и составляющих DNA-лицензий\n• Узнаем р
 азницу между лицензиями Essentials и Advantage\n• Объясним простым языком
  всю сложную терминологию модели лицензирования\, а также ответим на волн
 ующие вас вопросы.\n
DTEND:20200623T130000
DTSTAMP:20260423T091305Z
DTSTART:20200623T110000
LOCATION:Webex (детали либо в приглашении либо на сайте https://cscomarath
 on.ru)
SEQUENCE:0
SUMMARY:Enterprise Networking за 30 минут: Модель лицензирования Cisco DNA
UID:d098b758-b092-4f8a-a2d5-7581066e78d1
END:VEVENT
END:VCALENDAR
