BEGIN:VCALENDAR
PRODID:-//github.com/rianjs/ical.net//NONSGML ical.net 4.0//EN
VERSION:2.0
BEGIN:VEVENT
DESCRIPTION:Рекомендации по построению беспроводной сети там\, где законы 
 физики явно против стабильного покрытия и качественного сигнала.
DTSTAMP:20260423T090447Z
DTSTART;VALUE=DATE:20200709
LOCATION:Webex (детали либо в приглашении либо на сайте https://cscomarath
 on.ru)
SEQUENCE:0
SUMMARY:Сети повышенной сложности: \nWi-Fi в индустриальной среде и Wi-Fi 
 высокой плотности.
UID:66fc4fda-ca73-4932-b698-780272134aab
END:VEVENT
END:VCALENDAR
