BEGIN:VCALENDAR
PRODID:-//github.com/rianjs/ical.net//NONSGML ical.net 4.0//EN
VERSION:2.0
BEGIN:VEVENT
ATTACH:https://cvent.me/VNGKb8
DESCRIPTION:https://cvent.me/VNGKb8\nВ рамках тренинга ведущий специалист 
 логистической  службы Cisco расскажет о правилах создания и использования
  запроса на RMA\, объяснит как использовать POWR Tool и даст полезные сов
 еты.
DTSTAMP:20260423T090504Z
DTSTART;VALUE=DATE:20200904
LOCATION:Webex (детали либо в приглашении либо на сайте https://cscomarath
 on.ru)
SEQUENCE:0
SUMMARY:RMA и все что с ним связано
UID:14c9a699-96f2-4420-acb4-c8df45cc2e8a
END:VEVENT
END:VCALENDAR
