BEGIN:VCALENDAR
PRODID:-//github.com/rianjs/ical.net//NONSGML ical.net 4.0//EN
VERSION:2.0
BEGIN:VEVENT
ATTACH:https://cvent.me/mqWLdr
DESCRIPTION:https://cvent.me/mqWLdr\nВебинар посвящен системе управления I
 ntersight\, позволяющей обеспечить единое управление серверными и гиперко
 нвергентными системами вне зависимости от их географического расположения
 \, получение рекомендаций по настройке\, автоматизацию различных процессо
 в в ЦОД\, интеграцию с системами хранения и платформами виртуализации\, а
  также упрощение и ускорение взаимодействия со службой технической поддер
 жки.Intersight доступен как облачный сервис\, так и как виртуальная машин
 а на площадке Заказчика.
DTSTAMP:20260423T090345Z
DTSTART;VALUE=DATE:20200916
LOCATION:Webex (детали либо в приглашении либо на сайте https://cscomarath
 on.ru)
SEQUENCE:0
SUMMARY:Intersight: управление серверами через облако\, и не только
UID:9243ad11-66a0-4081-9fe3-2c7f160085c1
END:VEVENT
END:VCALENDAR
