BEGIN:VCALENDAR
PRODID:-//github.com/rianjs/ical.net//NONSGML ical.net 4.0//EN
VERSION:2.0
BEGIN:VEVENT
ATTACH:https://cvent.me/aQDKal?RefId=Email
DESCRIPTION:https://cvent.me/aQDKal?RefId=Email\nГоворят\, что картина сто
 ит тысячи слов. Так же и демонстрацию решения не всегда возможно заменить
  рассказом. В этот раз мы продемонстрируем наиболее интересные сценарии и
 спользования системы автоматизации нового поколения Cisco DNA Center на б
 азе реального оборудования. Будут затронуты\, как задачи классической авт
 оматизации\, так и внедрение SDN технологии от Cisco – SD-Access.
DTSTAMP:20260423T090715Z
DTSTART;VALUE=DATE:20201007
LOCATION:Webex (детали либо в приглашении либо на сайте https://cscomarath
 on.ru)
SEQUENCE:0
SUMMARY:Как выглядит настройка сети под управлением Cisco DNA Center? – де
 монстрация на реальной сети
UID:a9a89e15-b2cf-4d3d-a7b3-0e74c13c6d74
END:VEVENT
END:VCALENDAR
