BEGIN:VCALENDAR
PRODID:-//github.com/rianjs/ical.net//NONSGML ical.net 4.0//EN
VERSION:2.0
BEGIN:VEVENT
ATTACH:https://cvent.me/OKyREO?RefId=Email
DESCRIPTION:https://cvent.me/OKyREO?RefId=Email\nВебинар посвящен рассказу
  об обновлениях в линейке сточных серверов Cisco UCS C-серии\, включая мо
 дульные решения С4200\, а также специализированный сервер для Edge  внедр
 ений С240М5SD\, допускающий размещение в серверных помещениях с ограничен
 ным пространством.  Кроме того\,  будут рассмотрены возможности по управл
 ению стоечными серверами\,  как на уровне одного сервера\,  так и в масшт
 абах крупных территориально разнесенных центров обработки данных.
DTSTAMP:20260423T101747Z
DTSTART;VALUE=DATE:20201023
LOCATION:Webex (детали либо в приглашении либо на сайте https://cscomarath
 on.ru)
SEQUENCE:0
SUMMARY:Стоечные серверы Cisco. Обновление линейки и инструменты управления
UID:0477050a-1fe3-443e-b591-741476a983b5
END:VEVENT
END:VCALENDAR
