BEGIN:VCALENDAR
PRODID:-//github.com/rianjs/ical.net//NONSGML ical.net 4.0//EN
VERSION:2.0
BEGIN:VEVENT
DESCRIPTION:• Все говорят о том\, что мир никогда не будет прежним после C
 OVID\, а что конкретно это значит? Как мы работаем сегодня и как будем ра
 ботать завтра.\n• Какие задачи у наших российских заказчиков\, что волнуе
 т и вызывает опасения ИТ и бизнеса?\n• Какие продукты и сервисы Cisco дос
 тупны в РФ для ответа на эти задачи?\n
DTEND:20201006T130000
DTSTAMP:20260423T090346Z
DTSTART:20201006T110000
LOCATION:Webex (детали либо в приглашении либо на сайте https://cscomarath
 on.ru)
SEQUENCE:0
SUMMARY:Новая нормальность совместной работы: дом\, офис и где-то между ни
 ми
UID:b59fdc94-752e-404d-9f72-7da9582f96b0
END:VEVENT
END:VCALENDAR
