BEGIN:VCALENDAR
PRODID:-//github.com/rianjs/ical.net//NONSGML ical.net 4.0//EN
VERSION:2.0
BEGIN:VEVENT
DESCRIPTION:• Сценарии использования сервисов.\n• Cisco Webex: от повседне
 вного общения до решения специальных задач (корпоративный университет\, м
 аркетинг\, HR).\n
DTEND:20201007T130000
DTSTAMP:20260423T102006Z
DTSTART:20201007T110000
LOCATION:Webex (детали либо в приглашении либо на сайте https://cscomarath
 on.ru)
SEQUENCE:0
SUMMARY:Использование сервисов Cisco Webex: Tips & Tricks
UID:cdd479bd-76f8-4ef5-8d61-38f63470e10c
END:VEVENT
END:VCALENDAR
