BEGIN:VCALENDAR
PRODID:-//github.com/rianjs/ical.net//NONSGML ical.net 4.0//EN
VERSION:2.0
BEGIN:VEVENT
DESCRIPTION:• Раскладывание по полочкам всех возможных вариантов интеграци
 й между Microsoft Teams и сервисами Cisco Webex.
DTEND:20201007T170000
DTSTAMP:20260423T090319Z
DTSTART:20201007T150000
LOCATION:Webex (детали либо в приглашении либо на сайте https://cscomarath
 on.ru)
SEQUENCE:0
SUMMARY:Что может быть общего у Cisco Webex и Microsoft Teams?
UID:3ad8a03e-e3af-4ac7-bb3f-5856295f4c79
END:VEVENT
END:VCALENDAR
