BEGIN:VCALENDAR
PRODID:-//github.com/rianjs/ical.net//NONSGML ical.net 4.0//EN
VERSION:2.0
BEGIN:VEVENT
DESCRIPTION:Хотите приобрести решения Cisco для совместной работы\, но не 
 знаете\, как это сделать? – эта сессия для вас. Мы расскажем о существующ
 их и новых вариантах приобретения\, доступных в РФ.
DTEND:20201008T130000
DTSTAMP:20260423T090413Z
DTSTART:20201008T110000
LOCATION:Webex (детали либо в приглашении либо на сайте https://cscomarath
 on.ru)
SEQUENCE:0
SUMMARY:Новые модели приобретения продуктов и сервисов Cisco для совместно
 й работы
UID:6e2cc26e-0c0f-4662-a5f0-5dd9f3304099
END:VEVENT
END:VCALENDAR
