BEGIN:VCALENDAR
PRODID:-//github.com/rianjs/ical.net//NONSGML ical.net 4.0//EN
VERSION:2.0
BEGIN:VEVENT
DESCRIPTION:
DTEND:20201008T170000
DTSTAMP:20260423T090415Z
DTSTART:20201008T150000
LOCATION:Webex (детали либо в приглашении либо на сайте https://cscomarath
 on.ru)
SEQUENCE:0
SUMMARY:Локальный сервер конференций Cisco Meeting Server.\nИзменения посл
 едних версий и небольшой взгляд за горизонт \n
UID:853ea46c-477e-4f21-9d7f-008166efa0b9
END:VEVENT
END:VCALENDAR
