BEGIN:VCALENDAR
PRODID:-//github.com/rianjs/ical.net//NONSGML ical.net 4.0//EN
VERSION:2.0
BEGIN:VEVENT
DESCRIPTION:
DTEND:20201009T170000
DTSTAMP:20260423T090616Z
DTSTART:20201009T150000
LOCATION:Webex (детали либо в приглашении либо на сайте https://cscomarath
 on.ru)
SEQUENCE:0
SUMMARY:Опыт развертывания локального сервера конференций Cisco Meeting Se
 rver в корпоративной среде: CMM\, Installation Assistant\, Troubleshootin
 g
UID:27eac3a0-c626-4968-a5c3-e54ed6ce029c
END:VEVENT
END:VCALENDAR
