BEGIN:VCALENDAR
PRODID:-//github.com/rianjs/ical.net//NONSGML ical.net 4.0//EN
VERSION:2.0
BEGIN:VEVENT
DESCRIPTION:
DTSTAMP:20260423T102133Z
DTSTART;VALUE=DATE:20201012
LOCATION:Webex (детали либо в приглашении либо на сайте https://cscomarath
 on.ru)
SEQUENCE:0
SUMMARY:Обзор архитектуры и возможностей Cisco SD-WAN на примере сравнения
  с   классической архитектурой DMVPN
UID:f593c027-d62e-4d41-a2da-59648fd351ae
END:VEVENT
END:VCALENDAR
