BEGIN:VCALENDAR
PRODID:-//github.com/rianjs/ical.net//NONSGML ical.net 4.0//EN
VERSION:2.0
BEGIN:VEVENT
DESCRIPTION:
DTSTAMP:20260423T102016Z
DTSTART;VALUE=DATE:20201013
LOCATION:Webex (детали либо в приглашении либо на сайте https://cscomarath
 on.ru)
SEQUENCE:0
SUMMARY:Технические   аспекты внедрения\, интеграции и миграции решения Ci
 sco SD-WAN
UID:84772d2e-f45d-48db-b3c3-339a29e1b79e
END:VEVENT
END:VCALENDAR
