BEGIN:VCALENDAR
PRODID:-//github.com/rianjs/ical.net//NONSGML ical.net 4.0//EN
VERSION:2.0
BEGIN:VEVENT
DESCRIPTION:
DTSTAMP:20260423T091034Z
DTSTART;VALUE=DATE:20201014
LOCATION:Webex (детали либо в приглашении либо на сайте https://cscomarath
 on.ru)
SEQUENCE:0
SUMMARY:Функции   безопасности в решении Cisco SD-WAN
UID:e96364f0-d277-427c-b7fe-16c8cfb9be09
END:VEVENT
END:VCALENDAR
