BEGIN:VCALENDAR
PRODID:-//github.com/rianjs/ical.net//NONSGML ical.net 4.0//EN
VERSION:2.0
BEGIN:VEVENT
DESCRIPTION:
DTSTAMP:20260423T091230Z
DTSTART;VALUE=DATE:20201015
LOCATION:Webex (детали либо в приглашении либо на сайте https://cscomarath
 on.ru)
SEQUENCE:0
SUMMARY:Поиск и устранение неисправностей в сетях на основе Cisco SD-WAN. 
 Опыт Cisco TAC.
UID:f07d1139-9475-40cd-bf50-1b1a55e955cd
END:VEVENT
END:VCALENDAR
