BEGIN:VCALENDAR
PRODID:-//github.com/rianjs/ical.net//NONSGML ical.net 4.0//EN
VERSION:2.0
BEGIN:VEVENT
DESCRIPTION:Денис Коденцев\,   технический консультант Cisco
DTSTAMP:20260423T091140Z
DTSTART;VALUE=DATE:20201016
LOCATION:Webex (детали либо в приглашении либо на сайте https://cscomarath
 on.ru)
SEQUENCE:0
SUMMARY:Развитие   технологии Cisco SD-WAN и изменения в DNA лицензировании
UID:9e7c81e4-8ade-4b15-91c4-9504d19305c1
END:VEVENT
END:VCALENDAR
