BEGIN:VCALENDAR
PRODID:-//github.com/rianjs/ical.net//NONSGML ical.net 4.0//EN
VERSION:2.0
BEGIN:VEVENT
ATTACH:https://cvent.me/AxDgQW?RefId=Email
DESCRIPTION:https://cvent.me/AxDgQW?RefId=Email\nЗащита электронной почты 
 часто строится на базе технических мер\, например\, Cisco E-mail Security
  Appliance\, которых\, однако\, недостаточно\, особенно в условиях самоиз
 оляции\, когда сотрудники остаются один на один с Интернет-угрозами и не 
 всегда их почтовые ящики защищены корпоративными средствами мониторинга э
 лектронной почты. Как вовлечь персонал в защиту e-mail и повысить эффекти
 вность этого процесса? Для этого необходимо выстроить программу повышения
  осведомленности\, построенную на современных методах обучения – нано- и 
 микротренинги\, геймификация\, различные форматы обучения и т.п. О том ка
 к это сделать\, как можно организовывать фишинговые симуляции и как служб
 а ИБ может выстроить коммуникации внутри компании\, и будет посвящен новы
 е вебинар в рамках Клуба Cisco.
DTSTAMP:20260423T090932Z
DTSTART;VALUE=DATE:20201112
LOCATION:Webex (детали либо в приглашении либо на сайте https://cscomarath
 on.ru)
SEQUENCE:0
SUMMARY:Как выстроить эффективный процесс повышения осведомленности персон
 ала?
UID:5e03bd59-87b7-4f73-b81f-aed4da7dbe67
END:VEVENT
END:VCALENDAR
