BEGIN:VCALENDAR
PRODID:-//github.com/rianjs/ical.net//NONSGML ical.net 4.0//EN
VERSION:2.0
BEGIN:VEVENT
ATTACH:https://cvent.me/5VZz2q?RefId=Email
DESCRIPTION:https://cvent.me/5VZz2q?RefId=Email\nМы расскажем о новейших в
 озможностях совещаний Webex\, появившихся в октябре в релизе 40.10
DTSTAMP:20260423T091305Z
DTSTART;VALUE=DATE:20201103
LOCATION:Webex (детали либо в приглашении либо на сайте https://cscomarath
 on.ru)
SEQUENCE:0
SUMMARY:Свежие обновления в совещаниях Webex
UID:fc1a417e-460f-4066-9275-1672102974b7
END:VEVENT
END:VCALENDAR
