BEGIN:VCALENDAR
PRODID:-//github.com/rianjs/ical.net//NONSGML ical.net 4.0//EN
VERSION:2.0
BEGIN:VEVENT
ATTACH:https://cvent.me/rMeWDA?RefId=Email
DESCRIPTION:https://cvent.me/rMeWDA?RefId=Email\nНа данном вебинаре мы рас
 скажем Вам как выглядит процесс замены оборудования по Стандартной Гарант
 ии и по Расширенной (Сервисной) Гарантии.Обсудим общие моменты\, различия
 \, правила использования и применения всего\, что связано с гарантией (от
  определения слов\, до того кто отрабатывает заявки и как и кому писать в
  случае наступления гарантийного случая).
DTSTAMP:20260423T090413Z
DTSTART;VALUE=DATE:20201130
LOCATION:Webex (детали либо в приглашении либо на сайте https://cscomarath
 on.ru)
SEQUENCE:0
SUMMARY:Различия между Standard Warranty и Service Warranty
UID:b3529585-8209-4dbf-9a33-7bb283ea8c98
END:VEVENT
END:VCALENDAR
