BEGIN:VCALENDAR
PRODID:-//github.com/rianjs/ical.net//NONSGML ical.net 4.0//EN
VERSION:2.0
BEGIN:VEVENT
DESCRIPTION:
DTSTAMP:20260423T090639Z
DTSTART;VALUE=DATE:20201118
LOCATION:Webex (детали либо в приглашении либо на сайте https://cscomarath
 on.ru)
SEQUENCE:0
SUMMARY:Анонс новой платформы Cisco DNA Spaces для беспроводных сетей\, ко
 торую мы так долго ждали в России. Во время сессии мы рассмотрим:\n•	Функ
 циональные возможности данной платформы \n•	Основные ее преимущества и ос
 обенности\n•	Сценарии использования в корпоративной беспроводной сети\n
UID:195b19d5-fb94-4bce-b26c-6a341e5f5d19
END:VEVENT
END:VCALENDAR
