BEGIN:VCALENDAR
PRODID:-//github.com/rianjs/ical.net//NONSGML ical.net 4.0//EN
VERSION:2.0
BEGIN:VEVENT
DESCRIPTION:
DTEND:20210322T120000
DTSTAMP:20260423T090505Z
DTSTART:20210322T100000
LOCATION:Webex (детали либо в приглашении либо на сайте https://cscomarath
 on.ru)
SEQUENCE:0
SUMMARY:Главные вопросы (и ответы) при выборе дизайна и архитектуры класси
 ческой LAN/ЛВС сети
UID:77510ee5-8ba9-4e97-8486-17083d608422
END:VEVENT
END:VCALENDAR
